BEGIN:VCALENDAR
VERSION:2.0
PRODID:-//wp-events-plugin.com//7.2.3.1//EN
BEGIN:VEVENT
UID:19@kingdomariseministries.org
DTSTART:20260217T190000Z
DTEND:20260217T203000Z
DTSTAMP:20260205T065649Z
URL:https://kingdomariseministries.org/events/worship-service-3/
SUMMARY:Worship Service
DESCRIPTION:
END:VEVENT
END:VCALENDAR