BEGIN:VCALENDAR
VERSION:2.0
PRODID:-//wp-events-plugin.com//7.2.3.1//EN
BEGIN:VEVENT
UID:3140@kingdomariseministries.org
DTSTART:20260324T190000Z
DTEND:20260324T203000Z
DTSTAMP:20260313T091608Z
URL:https://kingdomariseministries.org/events/worship-service-2026-03-17-2
 026-03-24/
SUMMARY:Worship Service
DESCRIPTION:
END:VEVENT
END:VCALENDAR