BEGIN:VCALENDAR
VERSION:2.0
PRODID:-//wp-events-plugin.com//7.2.3.1//EN
BEGIN:VEVENT
UID:3186@kingdomariseministries.org
DTSTART:20270209T190000Z
DTEND:20270209T203000Z
DTSTAMP:20260313T091608Z
URL:https://kingdomariseministries.org/events/worship-service-2026-03-17-2
 026-03-24-2026-03-31-2026-04-07-2026-04-14-2026-04-21-2026-04-28-2026-05-0
 5-2026-05-12-2026-05-19-2026-05-26-2026-06-02-2026-06-09-2026-06-16-2026-0
 6-23-2026-02-2027-02-09/
SUMMARY:Worship Service
DESCRIPTION:
END:VEVENT
END:VCALENDAR