BEGIN:VCALENDAR
VERSION:2.0
PRODID:-//wp-events-plugin.com//7.2.3.1//EN
BEGIN:VEVENT
UID:9@kingdomariseministries.org
DTSTART:20250420T090000Z
DTEND:20250420T090000Z
DTSTAMP:20250421T085144Z
URL:https://kingdomariseministries.org/events/resurrection-sunday/
SUMMARY:Resurrection Sunday
DESCRIPTION:Pst Call # 909 736-0478
END:VEVENT
END:VCALENDAR