BEGIN:VCALENDAR
VERSION:2.0
PRODID:-//wp-events-plugin.com//7.2.3.1//EN
BEGIN:VEVENT
UID:4@kingdomariseministries.org
DTSTART:20241028T000000Z
DTEND:20241028T000000Z
DTSTAMP:20241025T085453Z
URL:https://kingdomariseministries.org/events/prayer-praise-worship-and-th
 e-word/
SUMMARY:Prayer Praise Worship and the Word
DESCRIPTION:
END:VEVENT
END:VCALENDAR