BEGIN:VCALENDAR
VERSION:2.0
PRODID:-//wp-events-plugin.com//7.2.3.1//EN
BEGIN:VEVENT
UID:32@kingdomariseministries.org
DTSTART:20260310T183000Z
DTEND:20260310T190000Z
DTSTAMP:20260306T114011Z
URL:https://kingdomariseministries.org/events/prayer-6/
SUMMARY:Prayer
DESCRIPTION:
END:VEVENT
END:VCALENDAR