BEGIN:VCALENDAR
VERSION:2.0
PRODID:-//wp-events-plugin.com//7.2.3.1//EN
BEGIN:VEVENT
UID:15@kingdomariseministries.org
DTSTART:20260217T183000Z
DTEND:20260217T190000Z
DTSTAMP:20260203T121726Z
URL:https://kingdomariseministries.org/events/prayer-3/
SUMMARY:Prayer
DESCRIPTION:
END:VEVENT
END:VCALENDAR