BEGIN:VCALENDAR
VERSION:2.0
PRODID:-//wp-events-plugin.com//7.2.3.1//EN
BEGIN:VEVENT
UID:3116@kingdomariseministries.org
DTSTART:20261027T183000Z
DTEND:20261027T190000Z
DTSTAMP:20260313T091838Z
URL:https://kingdomariseministries.org/events/prayer-2-2026-10-27/
SUMMARY:Prayer
DESCRIPTION:
END:VEVENT
END:VCALENDAR