BEGIN:VCALENDAR
VERSION:2.0
PRODID:-//wp-events-plugin.com//7.2.3.1//EN
BEGIN:VEVENT
UID:3@kingdomariseministries.org
DTSTART:20241029T000000Z
DTEND:20241029T000000Z
DTSTAMP:20241025T085436Z
URL:https://kingdomariseministries.org/events/men-of-grace/
SUMMARY:Men of Grace
DESCRIPTION:
END:VEVENT
END:VCALENDAR