BEGIN:VCALENDAR
VERSION:2.0
PRODID:-//wp-events-plugin.com//7.2.3.1//EN
BEGIN:VEVENT
UID:1@kingdomariseministries.org
DTSTART:20241027T190000Z
DTEND:20241027T200000Z
DTSTAMP:20241025T083411Z
URL:https://kingdomariseministries.org/events/hour-of-power-prayer/
SUMMARY:Hour of Power Prayer
DESCRIPTION:
ATTACH;FMTTYPE=image/jpeg:https://kingdomariseministries.org/wp-content/up
 loads/2024/10/HourofPowerPrayer.jpg
END:VEVENT
END:VCALENDAR