BEGIN:VCALENDAR
VERSION:2.0
PRODID:-//wp-events-plugin.com//7.2.3.1//EN
BEGIN:VEVENT
UID:31@kingdomariseministries.org
DTSTART:20260308T160000Z
DTEND:20260308T170000Z
DTSTAMP:20260306T113957Z
URL:https://kingdomariseministries.org/events/hour-of-power-prayer-5/
SUMMARY:Hour Of Power Prayer
DESCRIPTION:
END:VEVENT
END:VCALENDAR