BEGIN:VCALENDAR
VERSION:2.0
PRODID:-//wp-events-plugin.com//7.2.3.1//EN
BEGIN:VEVENT
UID:26@kingdomariseministries.org
DTSTART:20260215T160000Z
DTEND:20260215T170000Z
DTSTAMP:20260205T101400Z
URL:https://kingdomariseministries.org/events/hour-of-power-prayer-3/
SUMMARY:Hour Of Power Prayer
DESCRIPTION:
END:VEVENT
END:VCALENDAR