BEGIN:VCALENDAR
VERSION:2.0
PRODID:-//wp-events-plugin.com//7.2.3.1//EN
BEGIN:VEVENT
UID:1364@kingdomariseministries.org
DTSTART:20260607T080000Z
DTEND:20260607T090000Z
DTSTAMP:20260313T091840Z
URL:https://kingdomariseministries.org/events/hour-of-power-prayer-2026-06
 -07/
SUMMARY:Hour Of Power Prayer
DESCRIPTION:
END:VEVENT
END:VCALENDAR