BEGIN:VCALENDAR
VERSION:2.0
PRODID:-//wp-events-plugin.com//7.2.3.1//EN
BEGIN:VEVENT
UID:25@kingdomariseministries.org
DTSTART:20260208T160000Z
DTEND:20260208T170000Z
DTSTAMP:20260205T101342Z
URL:https://kingdomariseministries.org/events/hour-of-power-prayer-2/
SUMMARY:Hour Of Power Prayer
DESCRIPTION:
END:VEVENT
END:VCALENDAR