BEGIN:VCALENDAR
VERSION:2.0
PRODID:-//wp-events-plugin.com//7.2.3.1//EN
BEGIN:VEVENT
UID:8@kingdomariseministries.org
DTSTART:20250418T180000Z
DTEND:20250418T180000Z
DTSTAMP:20250421T084711Z
URL:https://kingdomariseministries.org/events/good-friday/
SUMMARY:Good Friday
DESCRIPTION:Pst Call # 909 736-0478
END:VEVENT
END:VCALENDAR