BEGIN:VCALENDAR
VERSION:2.0
PRODID:-//wp-events-plugin.com//7.2.3.1//EN
BEGIN:VEVENT
UID:5@kingdomariseministries.org
DTSTART:20241027T000000Z
DTEND:20241027T000000Z
DTSTAMP:20241025T085519Z
URL:https://kingdomariseministries.org/events/fresh-monday-morning-manna/
SUMMARY:Fresh Monday Morning Manna
DESCRIPTION:
END:VEVENT
END:VCALENDAR