BEGIN:VCALENDAR
VERSION:2.0
PRODID:-//wp-events-plugin.com//7.2.3.1//EN
BEGIN:VEVENT
UID:2@kingdomariseministries.org
DTSTART:20241030T000000Z
DTEND:20241030T000000Z
DTSTAMP:20241025T085411Z
URL:https://kingdomariseministries.org/events/fire-familys/
SUMMARY:Fire Family's
DESCRIPTION:
END:VEVENT
END:VCALENDAR