BEGIN:VCALENDAR
VERSION:2.0
PRODID:-//wp-events-plugin.com//7.2.3.1//EN
BEGIN:VEVENT
UID:21@kingdomariseministries.org
DTSTART:20260205T183000Z
DTEND:20260205T193000Z
DTSTAMP:20260203T122521Z
URL:https://kingdomariseministries.org/events/fan-the-flame-bible-study/
SUMMARY:Fan The Flame Bible Study
DESCRIPTION:
END:VEVENT
END:VCALENDAR