BEGIN:VCALENDAR
VERSION:2.0
PRODID:-//wp-events-plugin.com//7.2.3.1//EN
BEGIN:VEVENT
UID:23@kingdomariseministries.org
DTSTART:20260219T183000Z
DTEND:20260219T193000Z
DTSTAMP:20260203T122602Z
URL:https://kingdomariseministries.org/events/fan-the-flame-bible-study-3/
SUMMARY:Fan The Flame Bible Study
DESCRIPTION:
END:VEVENT
END:VCALENDAR