BEGIN:VCALENDAR
VERSION:2.0
PRODID:-//wp-events-plugin.com//7.2.3.1//EN
BEGIN:VEVENT
UID:3202@kingdomariseministries.org
DTSTART:20260514T183000Z
DTEND:20260514T193000Z
DTSTAMP:20260313T091743Z
URL:https://kingdomariseministries.org/events/fan-the-flame-bible-study-20
 26-03-19-2026-03-26-2026-04-02-2026-04-09-2026-04-16-2026-04-23-2026-04-30
 -2026-05-07-2026-05-14/
SUMMARY:Fan The Flame Bible Study
DESCRIPTION:
END:VEVENT
END:VCALENDAR