BEGIN:VCALENDAR
VERSION:2.0
PRODID:-//wp-events-plugin.com//7.2.3.1//EN
BEGIN:VEVENT
UID:7@kingdomariseministries.org
DTSTART:20250412T123000Z
DTEND:20250412T143000Z
DTSTAMP:20250421T090404Z
URL:https://kingdomariseministries.org/events/baptisms/
SUMMARY:Baptisms
DESCRIPTION:Call the ministry for more information.
END:VEVENT
END:VCALENDAR