BEGIN:VCALENDAR
VERSION:2.0
PRODID:-//wp-events-plugin.com//7.2.3.1//EN
BEGIN:VEVENT
UID:12@kingdomariseministries.org
DTSTART:20250426T123000Z
DTEND:20250426T143000Z
DTSTAMP:20250421T090228Z
URL:https://kingdomariseministries.org/events/baptisms-4/
SUMMARY:Baptisms
DESCRIPTION:Call the ministry for more information.
END:VEVENT
END:VCALENDAR