BEGIN:VCALENDAR
VERSION:2.0
PRODID:-//wp-events-plugin.com//7.2.3.1//EN
BEGIN:VEVENT
UID:10@kingdomariseministries.org
DTSTART:20250419T123000Z
DTEND:20250419T143000Z
DTSTAMP:20250421T085913Z
URL:https://kingdomariseministries.org/events/baptisms-2/
SUMMARY:Baptisms
DESCRIPTION:Call the ministry for more information.
END:VEVENT
END:VCALENDAR